Package: OpenStats Version: 1.18.0 Command: /Library/Frameworks/R.framework/Resources/bin/R CMD INSTALL OpenStats StartedAt: 2025-01-30 16:20:37 -0500 (Thu, 30 Jan 2025) EndedAt: 2025-01-30 16:21:11 -0500 (Thu, 30 Jan 2025) EllapsedTime: 33.4 seconds RetCode: 0 Status: OK