Package: OpenStats Version: 1.18.0 Command: /Library/Frameworks/R.framework/Resources/bin/R CMD build --keep-empty-dirs --no-resave-data OpenStats StartedAt: 2025-01-30 21:34:35 -0500 (Thu, 30 Jan 2025) EndedAt: 2025-01-30 21:35:32 -0500 (Thu, 30 Jan 2025) EllapsedTime: 56.3 seconds RetCode: 0 Status: OK PackageFile: OpenStats_1.18.0.tar.gz PackageFileSize: 598.9 KiB