Package: OpenStats Version: 1.18.0 Command: /Library/Frameworks/R.framework/Resources/bin/R CMD build --keep-empty-dirs --no-resave-data OpenStats StartedAt: 2025-01-31 04:53:04 -0500 (Fri, 31 Jan 2025) EndedAt: 2025-01-31 04:53:36 -0500 (Fri, 31 Jan 2025) EllapsedTime: 31.7 seconds RetCode: 0 Status: OK PackageFile: OpenStats_1.18.0.tar.gz PackageFileSize: 599.3 KiB