Package: OncoSimulR Version: 4.8.0 Command: /home/biocbuild/R/R/bin/R CMD check --install=check:OncoSimulR.install-out.txt --library=/home/biocbuild/R/R/site-library --no-vignettes --timings OncoSimulR_4.8.0.tar.gz StartedAt: 2025-02-04 09:32:37 -0000 (Tue, 04 Feb 2025) EndedAt: 2025-02-04 09:38:58 -0000 (Tue, 04 Feb 2025) EllapsedTime: 380.7 seconds RetCode: 0 Status: OK CheckDir: OncoSimulR.Rcheck Warnings: 0