Package: OncoSimulR Version: 4.10.0 Command: chmod a+r OncoSimulR -R && E:\biocbuild\bbs-3.21-bioc\R\bin\R.exe CMD build --keep-empty-dirs --no-resave-data OncoSimulR StartedAt: 2025-08-14 20:58:12 -0400 (Thu, 14 Aug 2025) EndedAt: 2025-08-14 21:16:16 -0400 (Thu, 14 Aug 2025) EllapsedTime: 1083.7 seconds RetCode: 0 Status: OK PackageFile: OncoSimulR_4.10.0.tar.gz PackageFileSize: 4.01 MiB