Package: OncoSimulR Version: 4.10.0 Command: rm -rf OncoSimulR.buildbin-libdir && mkdir OncoSimulR.buildbin-libdir && E:\biocbuild\bbs-3.21-bioc\R\bin\R.exe CMD INSTALL --build --library=OncoSimulR.buildbin-libdir OncoSimulR_4.10.0.tar.gz StartedAt: 2025-08-15 09:52:36 -0400 (Fri, 15 Aug 2025) EndedAt: 2025-08-15 09:56:53 -0400 (Fri, 15 Aug 2025) EllapsedTime: 256.8 seconds RetCode: 0 Status: OK PackageFile: OncoSimulR_4.10.0.zip PackageFileSize: 4.788 MiB