Package: OncoSimulR Version: 4.10.0 Maintainer: Ramon Diaz-Uriarte MaintainerEmail: rdiaz02 at gmail.com git_url: https://git.bioconductor.org/packages/OncoSimulR git_branch: RELEASE_3_21 git_last_commit: 165d213 git_last_commit_date: 2025-04-15 10:32:39 -0400 (Tue, 15 Apr 2025)