Package: OmicsMLRepoR Version: 1.0.0 Command: /home/biocbuild/R/R/bin/R CMD check --install=check:OmicsMLRepoR.install-out.txt --library=/home/biocbuild/R/R/site-library --no-vignettes --timings OmicsMLRepoR_1.0.0.tar.gz StartedAt: 2025-01-31 08:48:12 -0000 (Fri, 31 Jan 2025) EndedAt: 2025-01-31 08:50:18 -0000 (Fri, 31 Jan 2025) EllapsedTime: 126.1 seconds RetCode: 0 Status: OK CheckDir: OmicsMLRepoR.Rcheck Warnings: 0