Package: OmicsMLRepoR Version: 1.2.0 Command: rm -rf OmicsMLRepoR.buildbin-libdir && mkdir OmicsMLRepoR.buildbin-libdir && E:\biocbuild\bbs-3.21-bioc\R\bin\R.exe CMD INSTALL --build --library=OmicsMLRepoR.buildbin-libdir OmicsMLRepoR_1.2.0.tar.gz StartedAt: 2025-08-15 09:52:08 -0400 (Fri, 15 Aug 2025) EndedAt: 2025-08-15 09:52:44 -0400 (Fri, 15 Aug 2025) EllapsedTime: 36.0 seconds RetCode: 0 Status: OK PackageFile: OmicsMLRepoR_1.2.0.zip PackageFileSize: 331.7 KiB