Package: OSAT Version: 1.56.0 Command: /home/biocbuild/bbs-3.21-bioc/R/bin/R CMD build --keep-empty-dirs --no-resave-data OSAT StartedAt: 2025-10-15 18:59:43 -0400 (Wed, 15 Oct 2025) EndedAt: 2025-10-15 19:00:35 -0400 (Wed, 15 Oct 2025) EllapsedTime: 52.1 seconds RetCode: 0 Status: OK PackageFile: OSAT_1.56.0.tar.gz PackageFileSize: 960 KiB