Package: ORFik Version: 1.28.0 Command: /Library/Frameworks/R.framework/Resources/bin/R CMD check --install=check:ORFik.install-out.txt --library=/Library/Frameworks/R.framework/Resources/library --no-vignettes --timings ORFik_1.28.0.tar.gz StartedAt: 2025-05-02 07:14:11 -0400 (Fri, 02 May 2025) EndedAt: 2025-05-02 07:36:26 -0400 (Fri, 02 May 2025) EllapsedTime: 1334.9 seconds RetCode: 0 Status: OK CheckDir: ORFik.Rcheck Warnings: 0