Package: ORFik Version: 1.28.0 Command: /Library/Frameworks/R.framework/Resources/bin/R CMD build --keep-empty-dirs --no-resave-data ORFik StartedAt: 2025-04-21 17:49:17 -0400 (Mon, 21 Apr 2025) EndedAt: 2025-04-21 17:56:44 -0400 (Mon, 21 Apr 2025) EllapsedTime: 446.3 seconds RetCode: 0 Status: OK PackageFile: ORFik_1.28.0.tar.gz PackageFileSize: 3.926 MiB