Package: ORFik Version: 1.28.0 Command: rm -rf ORFik.buildbin-libdir && mkdir ORFik.buildbin-libdir && /Users/biocbuild/BBS/utils/build-universal.sh ORFik_1.28.0.tar.gz /Library/Frameworks/R.framework/Resources/bin/R ORFik.buildbin-libdir StartedAt: 2025-04-22 00:59:13 -0400 (Tue, 22 Apr 2025) EndedAt: 2025-04-22 01:00:54 -0400 (Tue, 22 Apr 2025) EllapsedTime: 100.7 seconds RetCode: 0 Status: OK PackageFile: ORFik_1.28.0.tgz PackageFileSize: 5.578 MiB