Package: ORFik Version: 1.28.0 Command: /home/biocbuild/R/R/bin/R CMD INSTALL ORFik StartedAt: 2025-04-21 20:54:20 -0000 (Mon, 21 Apr 2025) EndedAt: 2025-04-21 20:56:09 -0000 (Mon, 21 Apr 2025) EllapsedTime: 108.8 seconds RetCode: 0 Status: OK