Package: ORFik Version: 1.28.0 Command: /Library/Frameworks/R.framework/Resources/bin/R CMD INSTALL ORFik StartedAt: 2025-05-05 17:06:42 -0400 (Mon, 05 May 2025) EndedAt: 2025-05-05 17:08:00 -0400 (Mon, 05 May 2025) EllapsedTime: 78.1 seconds RetCode: 0 Status: OK