Package: OMICsPCA Version: 1.24.0 Command: /home/biocbuild/R/R/bin/R CMD check --install=check:OMICsPCA.install-out.txt --library=/home/biocbuild/R/R/site-library --no-vignettes --timings OMICsPCA_1.24.0.tar.gz StartedAt: 2025-01-31 08:48:24 -0000 (Fri, 31 Jan 2025) EndedAt: 2025-01-31 08:55:44 -0000 (Fri, 31 Jan 2025) EllapsedTime: 439.6 seconds RetCode: 0 Status: WARNINGS CheckDir: OMICsPCA.Rcheck Warnings: 1