Package: OMICsPCA Version: 1.26.0 Maintainer: Subhadeep Das MaintainerEmail: subhadeep1024 at gmail.com git_url: https://git.bioconductor.org/packages/OMICsPCA git_branch: RELEASE_3_21 git_last_commit: 51d6d49 git_last_commit_date: 2025-04-15 11:37:34 -0400 (Tue, 15 Apr 2025)