Package: NuPoP Version: 2.14.0 Command: /home/biocbuild/R/R/bin/R CMD check --install=check:NuPoP.install-out.txt --library=/home/biocbuild/R/R/site-library --no-vignettes --timings NuPoP_2.14.0.tar.gz StartedAt: 2025-01-31 08:45:50 -0000 (Fri, 31 Jan 2025) EndedAt: 2025-01-31 08:46:27 -0000 (Fri, 31 Jan 2025) EllapsedTime: 37.1 seconds RetCode: 0 Status: OK CheckDir: NuPoP.Rcheck Warnings: 0