Package: NuPoP Version: 2.14.0 Command: rm -rf NuPoP.buildbin-libdir && mkdir NuPoP.buildbin-libdir && F:\biocbuild\bbs-3.20-bioc\R\bin\R.exe CMD INSTALL --build --library=NuPoP.buildbin-libdir NuPoP_2.14.0.tar.gz StartedAt: 2025-01-03 08:52:37 -0500 (Fri, 03 Jan 2025) EndedAt: 2025-01-03 08:53:04 -0500 (Fri, 03 Jan 2025) EllapsedTime: 27.4 seconds RetCode: 0 Status: OK PackageFile: NuPoP_2.14.0.zip PackageFileSize: 4.464 MiB