Package: NuPoP Version: 2.14.0 Command: /home/biocbuild/R/R/bin/R CMD build --keep-empty-dirs --no-resave-data NuPoP StartedAt: 2024-11-20 02:38:00 -0000 (Wed, 20 Nov 2024) EndedAt: 2024-11-20 02:38:22 -0000 (Wed, 20 Nov 2024) EllapsedTime: 22.0 seconds RetCode: 0 Status: OK PackageFile: NuPoP_2.14.0.tar.gz PackageFileSize: 6.09 MiB