Package: NormqPCR Version: 1.54.0 Command: /Library/Frameworks/R.framework/Resources/bin/R CMD check --install=check:NormqPCR.install-out.txt --library=/Library/Frameworks/R.framework/Resources/library --no-vignettes --timings NormqPCR_1.54.0.tar.gz StartedAt: 2025-05-09 06:52:51 -0400 (Fri, 09 May 2025) EndedAt: 2025-05-09 06:56:02 -0400 (Fri, 09 May 2025) EllapsedTime: 191.4 seconds RetCode: 0 Status: OK CheckDir: NormqPCR.Rcheck Warnings: 0