Package: NormqPCR Version: 1.54.0 Command: /home/biocbuild/R/R/bin/R CMD INSTALL NormqPCR StartedAt: 2025-05-08 20:30:31 -0000 (Thu, 08 May 2025) EndedAt: 2025-05-08 20:30:40 -0000 (Thu, 08 May 2025) EllapsedTime: 9.4 seconds RetCode: 0 Status: OK