Package: NormalyzerDE Version: 1.26.0 Command: /home/biocbuild/bbs-3.21-bioc/R/bin/R CMD INSTALL NormalyzerDE StartedAt: 2025-10-01 15:40:56 -0400 (Wed, 01 Oct 2025) EndedAt: 2025-10-01 15:41:18 -0400 (Wed, 01 Oct 2025) EllapsedTime: 22.7 seconds RetCode: 0 Status: OK