Package: NormalyzerDE Version: 1.26.0 Command: /Library/Frameworks/R.framework/Resources/bin/R CMD INSTALL NormalyzerDE StartedAt: 2025-05-01 17:27:13 -0400 (Thu, 01 May 2025) EndedAt: 2025-05-01 17:27:39 -0400 (Thu, 01 May 2025) EllapsedTime: 26.4 seconds RetCode: 0 Status: OK