Package: NewWave Version: 1.18.0 Command: /Library/Frameworks/R.framework/Resources/bin/R CMD INSTALL NewWave StartedAt: 2025-05-05 16:36:33 -0400 (Mon, 05 May 2025) EndedAt: 2025-05-05 16:37:31 -0400 (Mon, 05 May 2025) EllapsedTime: 58.1 seconds RetCode: 0 Status: OK