Package: NewWave Version: 1.18.0 Command: rm -rf NewWave.buildbin-libdir && mkdir NewWave.buildbin-libdir && /Users/biocbuild/BBS/utils/build-universal.sh NewWave_1.18.0.tar.gz /Library/Frameworks/R.framework/Resources/bin/R NewWave.buildbin-libdir StartedAt: 2025-05-06 13:09:10 -0400 (Tue, 06 May 2025) EndedAt: 2025-05-06 13:10:14 -0400 (Tue, 06 May 2025) EllapsedTime: 64.2 seconds RetCode: 0 Status: OK PackageFile: NewWave_1.18.0.tgz PackageFileSize: 426.9 KiB