Package: NetSAM Version: 1.46.0 Command: /home/biocbuild/bbs-3.20-bioc/R/bin/R CMD INSTALL NetSAM StartedAt: 2025-01-30 15:52:53 -0500 (Thu, 30 Jan 2025) EndedAt: 2025-01-30 15:53:16 -0500 (Thu, 30 Jan 2025) EllapsedTime: 23.1 seconds RetCode: 0 Status: OK