Package: NetSAM Version: 1.46.0 Command: rm -rf NetSAM.buildbin-libdir && mkdir NetSAM.buildbin-libdir && /Users/biocbuild/BBS/utils/build-universal.sh NetSAM_1.46.0.tar.gz /Library/Frameworks/R.framework/Resources/bin/R NetSAM.buildbin-libdir StartedAt: 2025-01-31 13:17:21 -0500 (Fri, 31 Jan 2025) EndedAt: 2025-01-31 13:18:16 -0500 (Fri, 31 Jan 2025) EllapsedTime: 54.5 seconds RetCode: 0 Status: OK PackageFile: NetSAM_1.46.0.tgz PackageFileSize: 1.232 MiB