Package: NetPathMiner Version: 1.42.0 Command: /home/biocbuild/R/R/bin/R CMD check --install=check:NetPathMiner.install-out.txt --library=/home/biocbuild/R/R/site-library --no-vignettes --timings NetPathMiner_1.42.0.tar.gz StartedAt: 2025-01-31 08:39:48 -0000 (Fri, 31 Jan 2025) EndedAt: 2025-01-31 08:40:58 -0000 (Fri, 31 Jan 2025) EllapsedTime: 69.1 seconds RetCode: 0 Status: OK CheckDir: NetPathMiner.Rcheck Warnings: 0