Package: NetPathMiner Version: 1.44.0 Command: /Library/Frameworks/R.framework/Resources/bin/R CMD build --keep-empty-dirs --no-resave-data NetPathMiner StartedAt: 2025-05-15 21:08:04 -0400 (Thu, 15 May 2025) EndedAt: 2025-05-15 21:09:02 -0400 (Thu, 15 May 2025) EllapsedTime: 58.3 seconds RetCode: 0 Status: OK PackageFile: NetPathMiner_1.44.0.tar.gz PackageFileSize: 2.484 MiB