Package: NetPathMiner Version: 1.44.0 Command: /Library/Frameworks/R.framework/Resources/bin/R CMD build --keep-empty-dirs --no-resave-data NetPathMiner StartedAt: 2025-04-21 17:44:02 -0400 (Mon, 21 Apr 2025) EndedAt: 2025-04-21 17:44:39 -0400 (Mon, 21 Apr 2025) EllapsedTime: 36.6 seconds RetCode: 0 Status: OK PackageFile: NetPathMiner_1.44.0.tar.gz PackageFileSize: 2.47 MiB