Package: NetActivity Version: 1.10.0 Command: chmod a+r NetActivity -R && E:\biocbuild\bbs-3.21-bioc\R\bin\R.exe CMD build --keep-empty-dirs --no-resave-data NetActivity StartedAt: 2025-08-14 20:51:17 -0400 (Thu, 14 Aug 2025) EndedAt: 2025-08-14 20:52:49 -0400 (Thu, 14 Aug 2025) EllapsedTime: 91.5 seconds RetCode: 0 Status: OK PackageFile: NetActivity_1.10.0.tar.gz PackageFileSize: 345.1 KiB