Package: NetActivity Version: 1.10.0 Command: /Library/Frameworks/R.framework/Resources/bin/R CMD check --install=check:NetActivity.install-out.txt --library=/Library/Frameworks/R.framework/Resources/library --no-vignettes --timings NetActivity_1.10.0.tar.gz StartedAt: 2025-04-21 22:17:03 -0400 (Mon, 21 Apr 2025) EndedAt: 2025-04-21 22:21:29 -0400 (Mon, 21 Apr 2025) EllapsedTime: 265.7 seconds RetCode: 0 Status: OK CheckDir: NetActivity.Rcheck Warnings: 0