Package: Nebulosa Version: 1.16.0 Command: /home/biocbuild/R/R/bin/R CMD check --install=check:Nebulosa.install-out.txt --library=/home/biocbuild/R/R/site-library --no-vignettes --timings Nebulosa_1.16.0.tar.gz StartedAt: 2025-01-31 08:38:22 -0000 (Fri, 31 Jan 2025) EndedAt: 2025-01-31 08:42:18 -0000 (Fri, 31 Jan 2025) EllapsedTime: 235.3 seconds RetCode: 0 Status: OK CheckDir: Nebulosa.Rcheck Warnings: 0