Package: Nebulosa Version: 1.18.0 Command: /home/biocbuild/R/R/bin/R CMD build --keep-empty-dirs --no-resave-data Nebulosa StartedAt: 2025-05-13 02:39:37 -0000 (Tue, 13 May 2025) EndedAt: 2025-05-13 02:44:45 -0000 (Tue, 13 May 2025) EllapsedTime: 307.3 seconds RetCode: 0 Status: OK PackageFile: Nebulosa_1.18.0.tar.gz PackageFileSize: 3.286 MiB