Package: Nebulosa Version: 1.18.0 Command: /Library/Frameworks/R.framework/Resources/bin/R CMD INSTALL Nebulosa StartedAt: 2025-04-21 15:12:24 -0400 (Mon, 21 Apr 2025) EndedAt: 2025-04-21 15:12:36 -0400 (Mon, 21 Apr 2025) EllapsedTime: 11.9 seconds RetCode: 0 Status: OK