Package: Nebulosa Version: 1.18.0 Command: /Library/Frameworks/R.framework/Resources/bin/R CMD check --install=check:Nebulosa.install-out.txt --library=/Library/Frameworks/R.framework/Resources/library --no-vignettes --timings Nebulosa_1.18.0.tar.gz StartedAt: 2025-04-21 20:38:58 -0400 (Mon, 21 Apr 2025) EndedAt: 2025-04-21 20:40:19 -0400 (Mon, 21 Apr 2025) EllapsedTime: 80.9 seconds RetCode: 0 Status: OK CheckDir: Nebulosa.Rcheck Warnings: 0