Package: NanoTube Version: 1.14.0 Command: /home/biocbuild/R/R/bin/R CMD check --install=check:NanoTube.install-out.txt --library=/home/biocbuild/R/R/site-library --no-vignettes --timings NanoTube_1.14.0.tar.gz StartedAt: 2025-05-13 11:35:47 -0000 (Tue, 13 May 2025) EndedAt: 2025-05-13 11:38:37 -0000 (Tue, 13 May 2025) EllapsedTime: 169.4 seconds RetCode: 0 Status: OK CheckDir: NanoTube.Rcheck Warnings: 0