Package: NanoStringNCTools Version: 1.16.1 Command: /home/biocbuild/bbs-3.21-bioc/R/bin/R CMD INSTALL NanoStringNCTools StartedAt: 2025-10-01 15:18:01 -0400 (Wed, 01 Oct 2025) EndedAt: 2025-10-01 15:18:18 -0400 (Wed, 01 Oct 2025) EllapsedTime: 16.9 seconds RetCode: 0 Status: OK