Package: NanoStringNCTools Version: 1.16.1 Command: /home/biocbuild/bbs-3.21-bioc/R/bin/R CMD build --keep-empty-dirs --no-resave-data NanoStringNCTools StartedAt: 2025-10-01 18:52:43 -0400 (Wed, 01 Oct 2025) EndedAt: 2025-10-01 18:53:08 -0400 (Wed, 01 Oct 2025) EllapsedTime: 25.0 seconds RetCode: 1 Status: ERROR PackageFile: None PackageFileSize: NA