Package: NanoStringDiff Version: 1.36.0 Command: /home/biocbuild/R/R/bin/R CMD build --keep-empty-dirs --no-resave-data NanoStringDiff StartedAt: 2025-01-31 01:17:46 -0000 (Fri, 31 Jan 2025) EndedAt: 2025-01-31 01:18:11 -0000 (Fri, 31 Jan 2025) EllapsedTime: 25.0 seconds RetCode: 0 Status: OK PackageFile: NanoStringDiff_1.36.0.tar.gz PackageFileSize: 406.9 KiB