Package: NanoMethViz Version: 3.4.0 Command: /home/biocbuild/R/R/bin/R CMD INSTALL NanoMethViz StartedAt: 2025-05-12 21:06:59 -0000 (Mon, 12 May 2025) EndedAt: 2025-05-12 21:08:43 -0000 (Mon, 12 May 2025) EllapsedTime: 103.8 seconds RetCode: 0 Status: OK