Package: NanoMethViz Version: 3.4.0 Command: /home/biocbuild/R/R/bin/R CMD check --install=check:NanoMethViz.install-out.txt --library=/home/biocbuild/R/R/site-library --no-vignettes --timings NanoMethViz_3.4.0.tar.gz StartedAt: 2025-05-16 11:03:32 -0000 (Fri, 16 May 2025) EndedAt: 2025-05-16 11:18:09 -0000 (Fri, 16 May 2025) EllapsedTime: 876.5 seconds RetCode: 0 Status: OK CheckDir: NanoMethViz.Rcheck Warnings: 0