Package: NanoMethViz Version: 3.4.0 Command: /home/biocbuild/R/R/bin/R CMD build --keep-empty-dirs --no-resave-data NanoMethViz StartedAt: 2025-05-16 02:39:10 -0000 (Fri, 16 May 2025) EndedAt: 2025-05-16 02:43:46 -0000 (Fri, 16 May 2025) EllapsedTime: 275.1 seconds RetCode: 0 Status: OK PackageFile: NanoMethViz_3.4.0.tar.gz PackageFileSize: 7.601 MiB