Package: NanoMethViz Version: 3.4.0 Command: /Library/Frameworks/R.framework/Resources/bin/R CMD build --keep-empty-dirs --no-resave-data NanoMethViz StartedAt: 2025-05-16 04:44:20 -0400 (Fri, 16 May 2025) EndedAt: 2025-05-16 04:47:52 -0400 (Fri, 16 May 2025) EllapsedTime: 211.7 seconds RetCode: 0 Status: OK PackageFile: NanoMethViz_3.4.0.tar.gz PackageFileSize: 8.437 MiB