Package: NTW Version: 1.58.0 Command: /Library/Frameworks/R.framework/Resources/bin/R CMD build --keep-empty-dirs --no-resave-data NTW StartedAt: 2025-05-26 21:42:55 -0400 (Mon, 26 May 2025) EndedAt: 2025-05-26 21:43:44 -0400 (Mon, 26 May 2025) EllapsedTime: 49.0 seconds RetCode: 0 Status: OK PackageFile: NTW_1.58.0.tar.gz PackageFileSize: 870.8 KiB