Package: NTW Version: 1.58.0 Command: /Library/Frameworks/R.framework/Resources/bin/R CMD INSTALL NTW StartedAt: 2025-04-21 15:05:26 -0400 (Mon, 21 Apr 2025) EndedAt: 2025-04-21 15:05:58 -0400 (Mon, 21 Apr 2025) EllapsedTime: 32.3 seconds RetCode: 0 Status: OK