Package: NTW Version: 1.58.0 Command: /Library/Frameworks/R.framework/Resources/bin/R CMD build --keep-empty-dirs --no-resave-data NTW StartedAt: 2025-04-21 17:45:47 -0400 (Mon, 21 Apr 2025) EndedAt: 2025-04-21 17:46:12 -0400 (Mon, 21 Apr 2025) EllapsedTime: 25.4 seconds RetCode: 0 Status: OK PackageFile: NTW_1.58.0.tar.gz PackageFileSize: 871.5 KiB