Package: NCIgraph Version: 1.54.0 Command: /home/biocbuild/R/R/bin/R CMD INSTALL NCIgraph StartedAt: 2025-01-30 20:47:56 -0000 (Thu, 30 Jan 2025) EndedAt: 2025-01-30 20:48:04 -0000 (Thu, 30 Jan 2025) EllapsedTime: 8.0 seconds RetCode: 0 Status: OK