Package: NBAMSeq Version: 1.24.0 Command: /Library/Frameworks/R.framework/Resources/bin/R CMD INSTALL NBAMSeq StartedAt: 2025-04-24 16:51:39 -0400 (Thu, 24 Apr 2025) EndedAt: 2025-04-24 16:52:44 -0400 (Thu, 24 Apr 2025) EllapsedTime: 64.3 seconds RetCode: 0 Status: OK